BEGIN:VCALENDAR
VERSION:2.0
PRODID:-//Buffalo Branch NAACP - ECPv6.15.20//NONSGML v1.0//EN
CALSCALE:GREGORIAN
METHOD:PUBLISH
X-WR-CALNAME:Buffalo Branch NAACP
X-ORIGINAL-URL:https://buffalonaacp.org
X-WR-CALDESC:Events for Buffalo Branch NAACP
REFRESH-INTERVAL;VALUE=DURATION:PT1H
X-Robots-Tag:noindex
X-PUBLISHED-TTL:PT1H
BEGIN:VTIMEZONE
TZID:America/New_York
BEGIN:DAYLIGHT
TZOFFSETFROM:-0500
TZOFFSETTO:-0400
TZNAME:EDT
DTSTART:20250309T070000
END:DAYLIGHT
BEGIN:STANDARD
TZOFFSETFROM:-0400
TZOFFSETTO:-0500
TZNAME:EST
DTSTART:20251102T060000
END:STANDARD
BEGIN:DAYLIGHT
TZOFFSETFROM:-0500
TZOFFSETTO:-0400
TZNAME:EDT
DTSTART:20260308T070000
END:DAYLIGHT
BEGIN:STANDARD
TZOFFSETFROM:-0400
TZOFFSETTO:-0500
TZNAME:EST
DTSTART:20261101T060000
END:STANDARD
BEGIN:DAYLIGHT
TZOFFSETFROM:-0500
TZOFFSETTO:-0400
TZNAME:EDT
DTSTART:20270314T070000
END:DAYLIGHT
BEGIN:STANDARD
TZOFFSETFROM:-0400
TZOFFSETTO:-0500
TZNAME:EST
DTSTART:20271107T060000
END:STANDARD
END:VTIMEZONE
BEGIN:VEVENT
DTSTART;TZID=America/New_York:20260620T170000
DTEND;TZID=America/New_York:20260620T210000
DTSTAMP:20260423T110906
CREATED:20260320T211434Z
LAST-MODIFIED:20260403T213151Z
UID:5725-1781974800-1781989200@buffalonaacp.org
SUMMARY:58th Annual Medgar Evers Awards Gala
DESCRIPTION:Buffalo Branch · National Association for the Advancement of Colored People\n    NAACP\n    58th Medgar Evers Awards Gala\n    Honoring Our Heritage… A Legacy of Peace\, Power\, and Advancement \n\n\n\n📅 June 20\, 2026\n⏰ 5pm Reception · 6pm Dinner\n📍 Buffalo Convention Center\n🏛 153 Franklin St\, Buffalo NY\n \n \n    Black Tie or Cultural Attire Encouraged\n    Purchase Tickets\n    $100 per person  ·  Table of 10 for $950\n  \n\n \n\n\n\n🎟Individual Ticket$100per person\n🪑Table of 10$950save $50\n📅DateJune 20\, 2026Saturday\n📍VenueConvention Center153 Franklin St\n👗AttireBlack Tieor Cultural Attire\n \n \n\n \n\n\n\n      Become a Sponsor\n      Sponsorship Levels \n\n      Your sponsorship directly supports the Buffalo NAACP's mission of civil rights advocacy\, community empowerment\, and social justice. All sponsors will be recognized during the event.\n    \n\n\nPremier SponsorGold$15\,000✦  1 Buffalo NAACP 1-Year Membership✦  30-second video played during the event✦  Full Page E-Journal Color Advertisement✦  30 Dinner Tickets included\n\n\n\n\n\n\nPlatinum SponsorSilver$10\,000✦  1 Buffalo NAACP 1-Year Membership✦  Full Page E-Journal Color Ad✦  20 Dinner Tickets included\n\n\n\n\nCommunity SponsorGood Trouble$7\,500✦  1 Buffalo NAACP 1-Year Membership✦  Full Page E-Journal Color Ad✦  15 Dinner Tickets included\n\n \n\n\n\nSupporting SponsorBronze$5\,000✦  1 Buffalo NAACP 1-Year Membership✦  Full Page E-Journal Color Ad✦  10 Dinner Tickets included\n\n\n      Add-On Opportunities\n      Celebration Sponsorships\n      Two sponsorships available per category. All Celebration Sponsors recognized during the event.\n    \n\n\nVIP Reception$2\,5002 available\nEntertainment$2\,5002 available\nPhoto Booth$1\,0002 available\nSweets & Treats$7502 available\nCelebration Elevation$5002 available\n \n \n    Donations are NOT tax deductible  ·  Inquiries: naacp@buffalonaacp.org  ·  716-884-7242 \n\n      Become a Sponsor\n    \n \n\n \n\n\n\n      Advertise With Us\n      E-Journal Advertising \n\n      Place your advertisement in the official 58th Annual Medgar Evers Awards Gala E-Journal and reach our entire community of attendees and supporters.\n    \n\n\nFull Page Color Ad7.5 × 10 inches$500\nHalf Page Color Ad7.5 × 5 inches$300\nQuarter Page Color Ad3.75 × 2.5 inches$200\n \n \n\n      Deadline for All Ads\n      June 5\, 2026\n      Submit to naacp@buffalonaacp.org  ·  Checks payable to NAACP Buffalo Branch  ·  163 Broadway St\, Buffalo NY 14204\n    \n \n\n \n\n\n\n      Honoring Excellence\n      Awards Presented at the Gala \n\n      Each year the Buffalo Branch NAACP honors individuals and organizations whose commitment to justice\, equality\, and community service exemplifies the spirit of Medgar Evers.\n    \n\n\n\n⚖️Medgar Evers Civil Rights AwardPresented to an outstanding individual championing and speaking of the rights of the underclass\, or making the public aware either through the written or electronic press.\n\n\n🤝Daniel Acker Community Service AwardGiven to an individual\, group\, or organization exemplifying outstanding volunteer community involvement — including efforts that benefit the entire community.\n\n\n\n🌍Rufus Frasier Human Relations AwardAwarded to an individual\, group\, or organization that has done a significant amount of volunteer service for the advancement of human or race relations.\n\n\n⭐Youth AwardGiven to a youth in grades 5–12 demonstrating significant community assistance through associations\, schools\, or community organizations\, exemplifying excellent judgment in helping others.\n\n \n\n      Submit a Nomination\n      The Buffalo Branch NAACP is accepting nominations from members of Buffalo and surrounding regions. Nominations must be submitted in writing\, not to exceed 2 pages\, and must include both the nominee's and nominator's full contact information.\n      ⚠ Deadline: Monday\, May 4\, 2026 — 11:59 PM\n      No extensions will be granted.\n      Email to naacp@buffalonaacp.org  or mail to: NAACP Buffalo Branch · 163 Broadway St · Buffalo\, NY 14204  ·  Questions? 716-884-7242\n    \n \n\n \n\n\n\n\n    Reserve Your Seat Today\n    Join Us for an Evening of Honor and Legacy\n    Be part of the 58th Annual Medgar Evers Awards Gala — celebrating the individuals and organizations who carry forward the torch of civil rights\, justice\, and community advancement in Buffalo.\n    $100 / person   ·   $950 / table of 10\n    Get Your Tickets\n      \n    Sponsorship Info\n    Auction items available throughout the event  ·  Donations are not tax deductible
URL:https://buffalonaacp.org/event/58th-annual-medgar-evers-awards-gala/
LOCATION:Buffalo Convention Center\, 153 Franklin St\, Buffalo\, NY\, United States
END:VEVENT
END:VCALENDAR