BEGIN:VCALENDAR
VERSION:2.0
PRODID:-//Buffalo Branch NAACP - ECPv6.15.20//NONSGML v1.0//EN
CALSCALE:GREGORIAN
METHOD:PUBLISH
X-WR-CALNAME:Buffalo Branch NAACP
X-ORIGINAL-URL:https://buffalonaacp.org
X-WR-CALDESC:Events for Buffalo Branch NAACP
REFRESH-INTERVAL;VALUE=DURATION:PT1H
X-Robots-Tag:noindex
X-PUBLISHED-TTL:PT1H
BEGIN:VTIMEZONE
TZID:UTC
BEGIN:STANDARD
TZOFFSETFROM:+0000
TZOFFSETTO:+0000
TZNAME:UTC
DTSTART:20140101T000000
END:STANDARD
END:VTIMEZONE
BEGIN:VEVENT
DTSTART;TZID=UTC:20200616T180000
DTEND;TZID=UTC:20200616T193000
DTSTAMP:20260425T124050
CREATED:20200611T033707Z
LAST-MODIFIED:20200611T033707Z
UID:3134-1592330400-1592335800@buffalonaacp.org
SUMMARY:There's A Lot Going On
DESCRIPTION:From COVID-19 to heightened racial tensions\, you may be feeling a range of emotions right now: tired\, exhausted\, angry\, sad\, overwhelmed. You are not alone. In times like these\, it’s important to have a safe space where you can talk honestly about how you’re feeling without judgment. YAAC invites you to come to express your emotions and discuss how we as a community can support each other. \nFinding a balance between staying informed on breaking news and protecting your mental health. \nRegister on eventbrite.com for meeting I.D. and Password
URL:https://buffalonaacp.org/event/theres-a-lot-going-on/
ATTACH;FMTTYPE=image/jpeg:https://buffalonaacp.org/wp-content/uploads/2020/06/NAACP-6.16-scaled.jpg
END:VEVENT
BEGIN:VEVENT
DTSTART;TZID=UTC:20150615T190000
DTEND;TZID=UTC:20150615T230000
DTSTAMP:20260425T124050
CREATED:20150309T213222Z
LAST-MODIFIED:20150309T213222Z
UID:66-1434394800-1434409200@buffalonaacp.org
SUMMARY:NAACP 100 Year Anniversary Banquet
DESCRIPTION:Come celebrate the 100 year Anniversary of the Buffalo Chapter of the NAACP
URL:https://buffalonaacp.org/event/naacp-100-year-anniversary-banquet/
LOCATION:Buffalo Convention Center\, 153 Franklin St\, Buffalo\, NY\, United States
END:VEVENT
END:VCALENDAR